BEGIN:VCALENDAR
VERSION:2.0
PRODID:-//Baie-Saint-Paul Guide//NONSGML kigkonsult.se iCalcreator 2.30.10/
 /
CALSCALE:GREGORIAN
METHOD:PUBLISH
UID:b6a3f52d-821b-44c8-b802-09f967c0bf7b
X-WR-CALNAME:iCagenda
X-WR-CALDESC:Event Management Extension for Joomla!
X-WR-RELCALID:3E26604A-50F4-4449-8B3E-E4F4932D05B5
X-WR-TIMEZONE:America/Toronto
BEGIN:VTIMEZONE
TZID:America/Toronto
BEGIN:STANDARD
TZNAME:EST
DTSTART:20231105T020000
TZOFFSETFROM:-0400
TZOFFSETTO:-0500
RDATE:20241103T020000
RDATE:20251102T020000
END:STANDARD
BEGIN:DAYLIGHT
TZNAME:EDT
DTSTART:20240310T020000
TZOFFSETFROM:-0500
TZOFFSETTO:-0400
RDATE:20250309T020000
RDATE:20260308T020000
END:DAYLIGHT
END:VTIMEZONE
BEGIN:VEVENT
UID:9453cc8c-c08f-4068-b9fc-7b9a340ee8d4
DTSTAMP:20260423T064837Z
CATEGORIES:Autocueillette
CLASS:PUBLIC
DESCRIPTION;ALTREP="CID:<FFFF__=0ABBE548DFE235B58f9e8a93d@coffeebean.com>":
 Venez découvrir nos 4 variétés de raisins de table !! (somerset\, trollhau
 gen\, bluebell et brianna) Sucrés et savoureux\nChemin St-Laurent\, Baie-S
 t-Paul\n383 Chemin St-Laurent\, Baie-St-Paul\, QC G3Z 2L6\, Canada
DTSTART:20240922T140000Z
DTEND:20240922T200000Z
GEO:+47.47271;-70.506447
LOCATION:Jardin des p'tits Guedoches
ORGANIZER:
SEQUENCE:1
SUMMARY:Autocueillette de raisins de table à Baie-St-Paul
TRANSP:OPAQUE
URL:https://www.baiesaintpaulguide.com/component/icagenda/autocueillette-de
 -raisins-de-table-a-baie-st-paul-2.html?Itemid=103
END:VEVENT
END:VCALENDAR
