BEGIN:VCALENDAR
VERSION:2.0
PRODID:-//Baie-Saint-Paul Guide//NONSGML kigkonsult.se iCalcreator 2.30.10/
 /
CALSCALE:GREGORIAN
METHOD:PUBLISH
UID:6c0f9aa2-8b13-4ff8-9913-3ed25f9d9b62
X-WR-CALNAME:iCagenda
X-WR-CALDESC:Event Management Extension for Joomla!
X-WR-RELCALID:3E26604A-50F4-4449-8B3E-E4F4932D05B5
X-WR-TIMEZONE:America/Toronto
BEGIN:VTIMEZONE
TZID:America/Toronto
BEGIN:STANDARD
TZNAME:EST
DTSTART:20231105T020000
TZOFFSETFROM:-0400
TZOFFSETTO:-0500
RDATE:20241103T020000
RDATE:20251102T020000
END:STANDARD
BEGIN:DAYLIGHT
TZNAME:EDT
DTSTART:20240310T020000
TZOFFSETFROM:-0500
TZOFFSETTO:-0400
RDATE:20250309T020000
END:DAYLIGHT
END:VTIMEZONE
BEGIN:VEVENT
UID:f6e4e7b0-300f-44dd-babb-b13f5a59471e
DTSTAMP:20260423T093507Z
CATEGORIES:Animation Baie-Saint-Paul
CLASS:PUBLIC
DESCRIPTION;ALTREP="CID:<FFFF__=0ABBE548DFE235B58f9e8a93d@coffeebean.com>":
 Récapitulatif de l'événement:&nbsp\;https://youtu.be/R-RPqvVxvvI\nAndré Th
 ériault\, le gardien passionné du grand héritage des plus grands chanteurs
  et chansons de la musique traditionnelle franco-canadienne\, vous invite 
 à un concert inoubliable. Rejoignez-le à la Place de l'Église pour une soi
 rée envoûtante où vous pourrez chanter en chœur sur des airs comme Alouett
 e et écouter les mélodies intemporelles de Félix Leclerc\, dont 'Le Train 
 du Nord'\, ainsi que des chansons de Pierre Daigneault\, Oscar Thiffault\,
  La Bolduc et bien d'autres encore. Rendez-vous à la Place de l'Église pou
 r une soirée sous le signe de la musique et de la convivialité. Laissez-vo
 us emporter par la magie des chansons d'André Thériault\, qui résonnent av
 ec le cœur et l'âme du peuple franco-canadien. Que vous soyez jeune ou moi
 ns jeune\, que vous soyez familier ou non avec ces trésors de la musique t
 raditionnelle\, ce concert est l'occasion parfaite de découvrir ou de redé
 couvrir ces joyaux de notre patrimoine culturel. Venez partager des moment
 s de joie et d'émotion dans une ambiance chaleureuse et festive. Ne manque
 z pas cette opportunité unique de célébrer ensemble notre héritage musical
 .
DTSTART:20240706T233000Z
DTEND:20240707T010000Z
GEO:00;0
LOCATION:Arena Luc et Marie-Claude
ORGANIZER:
SEQUENCE:1
SUMMARY:André Thériault - musique
TRANSP:OPAQUE
URL:https://www.baiesaintpaulguide.com/component/icagenda/andre-theriault-m
 usique.html?Itemid=103
END:VEVENT
END:VCALENDAR
