BEGIN:VCALENDAR
VERSION:2.0
PRODID:-//Baie-Saint-Paul Guide//NONSGML kigkonsult.se iCalcreator 2.30.10/
 /
CALSCALE:GREGORIAN
METHOD:PUBLISH
UID:9b3fb6c9-57bd-49af-ba9f-3353200eee06
X-WR-CALNAME:iCagenda
X-WR-CALDESC:Event Management Extension for Joomla!
X-WR-RELCALID:3E26604A-50F4-4449-8B3E-E4F4932D05B5
X-WR-TIMEZONE:America/Toronto
BEGIN:VTIMEZONE
TZID:America/Toronto
BEGIN:STANDARD
TZNAME:EST
DTSTART:20231105T020000
TZOFFSETFROM:-0400
TZOFFSETTO:-0500
RDATE:20241103T020000
RDATE:20251102T020000
END:STANDARD
BEGIN:DAYLIGHT
TZNAME:EDT
DTSTART:20240310T020000
TZOFFSETFROM:-0500
TZOFFSETTO:-0400
RDATE:20250309T020000
END:DAYLIGHT
END:VTIMEZONE
BEGIN:VEVENT
UID:a3c62304-c42d-46ec-8af1-bc83b301b946
DTSTAMP:20260423T093514Z
CATEGORIES:Le Festif!
CLASS:PUBLIC
DESCRIPTION;ALTREP="CID:<FFFF__=0ABBE548DFE235B58f9e8a93d@coffeebean.com>":
 Rejoignez Alice Bro Trio pour un concert gratuit sur le terrain en avant d
 u 66 rue Sainte-Anne\, 'En route vers le Quai Bell'.\nAlice Bro Trio est u
 n groupe francophone de folk-rock aux accents bluesy puissants. Connu pour
  ses performances festives\, le trio crée une atmosphère exaltante grâce à
  leur humour grandiose\, drôle et légèrement osé. Venez vivre une expérien
 ce musicale unique et laissez-vous emporter par leur énergie contagieuse e
 t leur musique envoûtante. Ne manquez pas ce rendez-vous !
DTSTART:20240719T174500Z
DTEND:20240719T183000Z
GEO:+47.439228;-70.50177
LOCATION:En route vers le Quai Bell : terrain en avant du 66 rue Sainte-Ann
 e
ORGANIZER:
SEQUENCE:1
SUMMARY:Alice Bro Trio - Le Festif!
TRANSP:OPAQUE
URL:https://www.baiesaintpaulguide.com/component/icagenda/alice-bro-trio-le
 -festif-2.html?Itemid=103
END:VEVENT
END:VCALENDAR
