BEGIN:VCALENDAR
VERSION:2.0
PRODID:-//Baie-Saint-Paul Guide//NONSGML kigkonsult.se iCalcreator 2.30.10/
 /
CALSCALE:GREGORIAN
METHOD:PUBLISH
UID:452c94d8-1270-49e8-81a6-9786039dfaa5
X-WR-CALNAME:iCagenda
X-WR-CALDESC:Event Management Extension for Joomla!
X-WR-RELCALID:3E26604A-50F4-4449-8B3E-E4F4932D05B5
X-WR-TIMEZONE:America/Toronto
BEGIN:VTIMEZONE
TZID:America/Toronto
BEGIN:STANDARD
TZNAME:EST
DTSTART:20251102T020000
TZOFFSETFROM:-0400
TZOFFSETTO:-0500
RDATE:20261101T020000
END:STANDARD
BEGIN:DAYLIGHT
TZNAME:EDT
DTSTART:20250309T020000
TZOFFSETFROM:-0500
TZOFFSETTO:-0400
RDATE:20260308T020000
RDATE:20270314T020000
END:DAYLIGHT
END:VTIMEZONE
BEGIN:VEVENT
UID:4a4f80cb-c2fc-4372-99f4-59ee7f64e3c4
DTSTAMP:20260420T022332Z
CATEGORIES:Bistro des Balcons
CLASS:PUBLIC
DESCRIPTION;ALTREP="CID:<FFFF__=0ABBE548DFE235B58f9e8a93d@coffeebean.com>":
 AFTER-PARTY DU CABARET FESTIF&nbsp\;\nLe Bistro des Balcons et le Festif! 
 de Baie-Saint-Paul sont heureux de vous convier au troisième after-party d
 e la saison du Cabaret Festif! Et oui… c’est encore GRATUIT! On est de mêm
 e nous autres!\nLe 28 février\, dès la fin des spectacles à la Maison Otis
 \, rejoignez-nous à seulement 5 minutes à pied pour prolonger la soirée et
  célébrer comme il se doit.\nSnoro aux platines : Un set qui groove et qui
  fait danser jusqu’aux petites heures. Bonne musique\, ambiance festive et
  vibes comme on les aime!\nLes spectacles se terminent… mais la fête conti
 nue!
DTSTART:20260301T033000Z
DTEND:20260301T045900Z
GEO:+47.438202;-70.505577
LOCATION:Bistro des Balcons
ORGANIZER:
SEQUENCE:1
SUMMARY:After party du Cabaret Festif avec Snoro
TRANSP:OPAQUE
URL:https://www.baiesaintpaulguide.com/component/icagenda/after-party-du-ca
 baret-festif-avec-snoro.html?Itemid=103
END:VEVENT
END:VCALENDAR
