BEGIN:VCALENDAR
VERSION:2.0
PRODID:-//Baie-Saint-Paul Guide//NONSGML kigkonsult.se iCalcreator 2.30.10/
 /
CALSCALE:GREGORIAN
METHOD:PUBLISH
UID:36fea1c6-8ae5-40c2-8ddb-342bbb65a194
X-WR-CALNAME:iCagenda
X-WR-CALDESC:Event Management Extension for Joomla!
X-WR-RELCALID:3E26604A-50F4-4449-8B3E-E4F4932D05B5
X-WR-TIMEZONE:America/Toronto
BEGIN:VTIMEZONE
TZID:America/Toronto
BEGIN:STANDARD
TZNAME:EST
DTSTART:20231105T020000
TZOFFSETFROM:-0400
TZOFFSETTO:-0500
RDATE:20241103T020000
RDATE:20251102T020000
END:STANDARD
BEGIN:DAYLIGHT
TZNAME:EDT
DTSTART:20240310T020000
TZOFFSETFROM:-0500
TZOFFSETTO:-0400
RDATE:20250309T020000
END:DAYLIGHT
END:VTIMEZONE
BEGIN:VEVENT
UID:892d42b3-9d5f-4b5e-8977-140b499a3cb3
DTSTAMP:20260423T080611Z
CATEGORIES:Animation Baie-Saint-Paul
CLASS:PUBLIC
DESCRIPTION;ALTREP="CID:<FFFF__=0ABBE548DFE235B58f9e8a93d@coffeebean.com>":
 Rejoignez-nous pour un concert d'Afrovibes - musique\, qui se déroulera de
 vant l'église avec des espaces pour danser et s'asseoir sur l'herbe ou sur
  les marches. L'entrée est gratuite à ce concert envoûtant. Afrovibes est 
 reconnu comme un ensemble fantastique\, porteur d'un message si fort et d'
 une portée universelle avec leur unique son vaudou-afrobeat. Composé de se
 pt artistes\, leur musique rythmique élève l'âme et vous transporte dans u
 ne transe magnétique\, comme si vous étiez captivés par les forces sacrées
  de la Terre mère.\nEmmené par Emmanuel Delly\, maître des percussions au 
 pouvoir fabuleux\, Afrovibes crée une ambiance intemporelle qui traverse l
 es générations et les genres musicaux éphémères. Leurs arrangements comple
 xes fusionnent jazz\, soul et rock\, réanimant parfois des classiques oubl
 iés avec brio. C'est une célébration de la musique Motown\, de l'âme noire
  et de la musique populaire.\nPortée par une voix féminine polyvalente\, l
 a musique d'Afrovibes exhale un souffle vivifiant rappelant les îles loint
 aines\, des Caraïbes à l'Amérique latine\, jusqu'aux îles Comores et leurs
  effluves océaniques. Ne manquez pas ce moment exaltant\, où les vibration
 s des Antilles dansent jusqu'à vos oreilles\, et où vous pourrez vous déte
 ndre\, danser ou vous asseoir sur l'herbe ou les marches de l'église\, ave
 c un cocktail et un sentiment d'infini.
DTSTART:20240810T223000Z
DTEND:20240811T000000Z
GEO:+47.441021;-70.506462
LOCATION:Place de l'Église
ORGANIZER:
SEQUENCE:1
SUMMARY:Afrovibes - musique
TRANSP:OPAQUE
URL:https://www.baiesaintpaulguide.com/component/icagenda/afrovibes-musique
 .html?Itemid=103
END:VEVENT
END:VCALENDAR
