BEGIN:VCALENDAR
VERSION:2.0
PRODID:-//Baie-Saint-Paul Guide//NONSGML kigkonsult.se iCalcreator 2.30.10/
 /
CALSCALE:GREGORIAN
METHOD:PUBLISH
UID:6fa1ded2-debc-467c-9544-1a1d094832c4
X-WR-CALNAME:iCagenda
X-WR-CALDESC:Event Management Extension for Joomla!
X-WR-RELCALID:3E26604A-50F4-4449-8B3E-E4F4932D05B5
X-WR-TIMEZONE:America/Toronto
BEGIN:VTIMEZONE
TZID:America/Toronto
BEGIN:STANDARD
TZNAME:EST
DTSTART:20231105T020000
TZOFFSETFROM:-0400
TZOFFSETTO:-0500
RDATE:20241103T020000
RDATE:20251102T020000
END:STANDARD
BEGIN:DAYLIGHT
TZNAME:EDT
DTSTART:20240310T020000
TZOFFSETFROM:-0500
TZOFFSETTO:-0400
RDATE:20250309T020000
END:DAYLIGHT
END:VTIMEZONE
BEGIN:VEVENT
UID:337bf392-9dc9-4cb1-a144-21154b9fbf4d
DTSTAMP:20260423T093319Z
CATEGORIES:Fête
CLASS:PUBLIC
DESCRIPTION;ALTREP="CID:<FFFF__=0ABBE548DFE235B58f9e8a93d@coffeebean.com>":
 Le Mousse Café célèbre ses 7 ans cette année !!!\nPour l’occasion\, nous v
 ous avons concocté un joli programme :\n\n\nMini galette offerte aux 50 pr
 emiers chanceux pour tout achat d’un breuvage ou autre\nRoue chanceuse pou
 r obtenir des rabais allant jusqu’à 40% en boutique\nJeux gonflables en ex
 térieur\nPetite exposition de photo qui illustre nos 7 dernières années!\n
 \n\nÇa se passe ce samedi 6 juillet\, on vous attend au Mousse pour fêter 
 ça avec nous !! 
DTSTART:20240706T120000Z
DTEND:20240706T190000Z
GEO:+47.438538;-70.506607
LOCATION:Mousse Café - coopérative de solidarité
ORGANIZER:
SEQUENCE:1
SUMMARY:7e anniversaire du Mousse Café
TRANSP:OPAQUE
URL:https://www.baiesaintpaulguide.com/component/icagenda/7e-anniversaire-d
 u-mousse-cafe.html?Itemid=103
END:VEVENT
END:VCALENDAR
