BEGIN:VCALENDAR
VERSION:2.0
PRODID:-//Baie-Saint-Paul Guide//NONSGML kigkonsult.se iCalcreator 2.30.10/
 /
CALSCALE:GREGORIAN
METHOD:PUBLISH
UID:e029edf2-8791-4599-b75b-fcd04831c0c1
X-WR-CALNAME:iCagenda
X-WR-CALDESC:Event Management Extension for Joomla!
X-WR-RELCALID:3E26604A-50F4-4449-8B3E-E4F4932D05B5
X-WR-TIMEZONE:America/Toronto
BEGIN:VTIMEZONE
TZID:America/Toronto
BEGIN:STANDARD
TZNAME:EST
DTSTART:20231105T020000
TZOFFSETFROM:-0400
TZOFFSETTO:-0500
RDATE:20241103T020000
RDATE:20251102T020000
END:STANDARD
BEGIN:DAYLIGHT
TZNAME:EDT
DTSTART:20240310T020000
TZOFFSETFROM:-0500
TZOFFSETTO:-0400
RDATE:20250309T020000
END:DAYLIGHT
END:VTIMEZONE
BEGIN:VEVENT
UID:ddabe041-fcc0-45f0-8353-cb3b5bfd0462
DTSTAMP:20260423T093020Z
CATEGORIES:Musée d'art contemporain de Baie-Saint-Paul
CLASS:PUBLIC
DESCRIPTION;ALTREP="CID:<FFFF__=0ABBE548DFE235B58f9e8a93d@coffeebean.com>":
 Activité gratuite ouverte à tous !   Venez créer en bonne compagnie ! Appo
 rtez votre matériel et vos projets en cours pour partager un moment conviv
 ial et créatif.\nLe 'Bar Content' sera ouvert pour vous servir des cocktai
 ls et de la petite bouffe.\nOù ? Placette Desjardins du MACBSP
DTSTART:20240705T210000Z
DTEND:20240705T230000Z
GEO:+47.440292;-70.505592
LOCATION:Placette Desjardins du MACBSP
ORGANIZER:
SEQUENCE:1
SUMMARY:5 à 7 créatif
TRANSP:OPAQUE
URL:https://www.baiesaintpaulguide.com/component/icagenda/5-a-7-creatif.htm
 l?Itemid=103
END:VEVENT
END:VCALENDAR
