BEGIN:VCALENDAR
VERSION:2.0
PRODID:-//Baie-Saint-Paul Guide//NONSGML kigkonsult.se iCalcreator 2.30.10/
 /
CALSCALE:GREGORIAN
METHOD:PUBLISH
UID:a19efef0-c141-4a38-b370-182b5cc0fe76
X-WR-CALNAME:iCagenda
X-WR-CALDESC:Event Management Extension for Joomla!
X-WR-RELCALID:3E26604A-50F4-4449-8B3E-E4F4932D05B5
X-WR-TIMEZONE:America/Toronto
BEGIN:VTIMEZONE
TZID:America/Toronto
BEGIN:STANDARD
TZNAME:EST
DTSTART:20231105T020000
TZOFFSETFROM:-0400
TZOFFSETTO:-0500
RDATE:20241103T020000
RDATE:20251102T020000
END:STANDARD
BEGIN:DAYLIGHT
TZNAME:EDT
DTSTART:20240310T020000
TZOFFSETFROM:-0500
TZOFFSETTO:-0400
RDATE:20250309T020000
END:DAYLIGHT
END:VTIMEZONE
BEGIN:VEVENT
UID:730c3d00-772f-4eb0-9960-0c1ce8d22bd8
DTSTAMP:20260423T081251Z
CATEGORIES:Musée d'art contemporain de Baie-Saint-Paul
CLASS:PUBLIC
DESCRIPTION;ALTREP="CID:<FFFF__=0ABBE548DFE235B58f9e8a93d@coffeebean.com>":
 Joignez-vous à nous dans la création d'une murale collective ! Le matériel
  (peinture) sera fourni. Partagez un moment festif\, convivial et créatif 
 avec nous à la placette Desjardins du MACBSP !\nActivité gratuite ouverte 
 à tous !
DTSTART:20240823T210000Z
DTEND:20240823T230000Z
GEO:+47.440292;-70.505592
LOCATION:Placette Desjardins
ORGANIZER:
SEQUENCE:1
SUMMARY:5 à 7 créatif / Murale collective
TRANSP:OPAQUE
URL:https://www.baiesaintpaulguide.com/component/icagenda/5-a-7-creatif-mur
 ale-collective.html?Itemid=103
END:VEVENT
END:VCALENDAR
