BEGIN:VCALENDAR
VERSION:2.0
PRODID:-//Baie-Saint-Paul Guide//NONSGML kigkonsult.se iCalcreator 2.30.10/
 /
CALSCALE:GREGORIAN
METHOD:PUBLISH
UID:9316735e-706f-4172-9bb5-ee5ac53c83cc
X-WR-CALNAME:iCagenda
X-WR-CALDESC:Event Management Extension for Joomla!
X-WR-RELCALID:3E26604A-50F4-4449-8B3E-E4F4932D05B5
X-WR-TIMEZONE:America/Toronto
BEGIN:VTIMEZONE
TZID:America/Toronto
BEGIN:STANDARD
TZNAME:EST
DTSTART:20231105T020000
TZOFFSETFROM:-0400
TZOFFSETTO:-0500
RDATE:20241103T020000
RDATE:20251102T020000
END:STANDARD
BEGIN:DAYLIGHT
TZNAME:EDT
DTSTART:20240310T020000
TZOFFSETFROM:-0500
TZOFFSETTO:-0400
RDATE:20250309T020000
END:DAYLIGHT
END:VTIMEZONE
BEGIN:VEVENT
UID:7d368ec6-7256-48e4-afaf-aa4678ec02c0
DTSTAMP:20260423T095338Z
CATEGORIES:Musée d'art contemporain de Baie-Saint-Paul
CLASS:PUBLIC
DESCRIPTION;ALTREP="CID:<FFFF__=0ABBE548DFE235B58f9e8a93d@coffeebean.com>":
  \n\nPremier dimanche du mois\, le musée est donc accessible gratuitement 
 ! Profitez de cette occasion pour venir découvrir notre nouvelle expositio
 n 'DEHORS' de Karine Locatelli et René Richard\, ainsi que l’exposition 'F
 lore' présentée sur la mezzanine. Une envoûtante immersion dans la nature 
 québécoise vous y attend !\n\n\n \nHoraires : Le musée sera ouvert de 10h 
 à 17h.\n\n\nActivité spéciale : De 10h à 16h\, participez à la création de
  papier artisanal dans la placette Desjardins du MACBSP. En cas de pluie\,
  cette activité sera déplacée à l'intérieur\, dans le hall du MACBSP.\n\n
 \nVenez en grand nombre ! \n
DTSTART:20240707T140000Z
DTEND:20240707T190000Z
GEO:+47.440292;-70.505592
LOCATION:Musée d'art contemporain de Baie-Saint-Paul
ORGANIZER:
SEQUENCE:1
SUMMARY:1er dimanche du mois - Je vais au musée - Gratuit
TRANSP:OPAQUE
URL:https://www.baiesaintpaulguide.com/component/icagenda/1er-dimanche-du-m
 ois-je-vais-au-musee-gratuit.html?Itemid=103
END:VEVENT
END:VCALENDAR
